BEGIN:VCALENDAR
VERSION:2.0
PRODID:-//MDEV Mütterpflege Deutschland e.V. - ECPv6.15.20//NONSGML v1.0//EN
CALSCALE:GREGORIAN
METHOD:PUBLISH
X-WR-CALNAME:MDEV Mütterpflege Deutschland e.V.
X-ORIGINAL-URL:https://muetterpflege-deutschland.de
X-WR-CALDESC:Veranstaltungen für MDEV Mütterpflege Deutschland e.V.
REFRESH-INTERVAL;VALUE=DURATION:PT1H
X-Robots-Tag:noindex
X-PUBLISHED-TTL:PT1H
BEGIN:VTIMEZONE
TZID:Europe/Berlin
BEGIN:DAYLIGHT
TZOFFSETFROM:+0100
TZOFFSETTO:+0200
TZNAME:CEST
DTSTART:20250330T010000
END:DAYLIGHT
BEGIN:STANDARD
TZOFFSETFROM:+0200
TZOFFSETTO:+0100
TZNAME:CET
DTSTART:20251026T010000
END:STANDARD
BEGIN:DAYLIGHT
TZOFFSETFROM:+0100
TZOFFSETTO:+0200
TZNAME:CEST
DTSTART:20260329T010000
END:DAYLIGHT
BEGIN:STANDARD
TZOFFSETFROM:+0200
TZOFFSETTO:+0100
TZNAME:CET
DTSTART:20261025T010000
END:STANDARD
BEGIN:DAYLIGHT
TZOFFSETFROM:+0100
TZOFFSETTO:+0200
TZNAME:CEST
DTSTART:20270328T010000
END:DAYLIGHT
BEGIN:STANDARD
TZOFFSETFROM:+0200
TZOFFSETTO:+0100
TZNAME:CET
DTSTART:20271031T010000
END:STANDARD
END:VTIMEZONE
BEGIN:VEVENT
DTSTART;TZID=Europe/Berlin:20260425T100000
DTEND;TZID=Europe/Berlin:20260425T170000
DTSTAMP:20260425T021115
CREATED:20260329T191332Z
LAST-MODIFIED:20260329T191332Z
UID:3478-1777111200-1777136400@muetterpflege-deutschland.de
SUMMARY:Fortbildung: Fit für die Steuer
DESCRIPTION:Weitere Informationen und Buchung unter: https://kikudoo.com/muetterpflege-deutschland/courses/eMO6PQ
URL:https://muetterpflege-deutschland.de/event/fortbildung-fit-fuer-die-steuer/
LOCATION:Zoom
CATEGORIES:Für alle
ATTACH;FMTTYPE=image/png:https://muetterpflege-deutschland.de/wp-content/uploads/2024/10/steuerwissen-muetterpflege.png
END:VEVENT
END:VCALENDAR